BEGIN:VCALENDAR
VERSION:2.0
PRODID:-//Cultivate Kindness - ECPv6.15.20//NONSGML v1.0//EN
CALSCALE:GREGORIAN
METHOD:PUBLISH
X-WR-CALNAME:Cultivate Kindness
X-ORIGINAL-URL:https://cultivatekindness.co.uk
X-WR-CALDESC:Events for Cultivate Kindness
REFRESH-INTERVAL;VALUE=DURATION:PT1H
X-Robots-Tag:noindex
X-PUBLISHED-TTL:PT1H
BEGIN:VTIMEZONE
TZID:Europe/London
BEGIN:DAYLIGHT
TZOFFSETFROM:+0000
TZOFFSETTO:+0100
TZNAME:BST
DTSTART:20240331T010000
END:DAYLIGHT
BEGIN:STANDARD
TZOFFSETFROM:+0100
TZOFFSETTO:+0000
TZNAME:GMT
DTSTART:20241027T010000
END:STANDARD
BEGIN:DAYLIGHT
TZOFFSETFROM:+0000
TZOFFSETTO:+0100
TZNAME:BST
DTSTART:20250330T010000
END:DAYLIGHT
BEGIN:STANDARD
TZOFFSETFROM:+0100
TZOFFSETTO:+0000
TZNAME:GMT
DTSTART:20251026T010000
END:STANDARD
BEGIN:DAYLIGHT
TZOFFSETFROM:+0000
TZOFFSETTO:+0100
TZNAME:BST
DTSTART:20260329T010000
END:DAYLIGHT
BEGIN:STANDARD
TZOFFSETFROM:+0100
TZOFFSETTO:+0000
TZNAME:GMT
DTSTART:20261025T010000
END:STANDARD
END:VTIMEZONE
BEGIN:VEVENT
DTSTART;TZID=Europe/London:20250502T191500
DTEND;TZID=Europe/London:20250502T201500
DTSTAMP:20260425T034924
CREATED:20250423T132045Z
LAST-MODIFIED:20250423T132045Z
UID:3106-1746213300-1746216900@cultivatekindness.co.uk
SUMMARY:Nurturing Yin Yoga Class
DESCRIPTION:60-Minute Nurturing Yin Yoga Class with Sound Bath | Calm Your Nervous System & Soothe Your Body After a Busy Week \nJoin me for a restorative 60-minute Yin Yoga class\, designed to help you unwind and rejuvenate after a busy week. This nurturing Yin yoga practice encourages the body to slow down\, calm the nervous system\, and promote deep relaxation. In this class\, we’ll hold gentle\, longer-duration poses that allow the body to release tension\, improve flexibility\, and restore balance. Perfect for relieving stress\, easing tight muscles\, and reconnecting with your body\, this session will leave you feeling grounded and peaceful. \nTo enhance your relaxation\, I incorporate soothing essential oils throughout the practice\, adding an extra layer of calm and mindfulness. At the end of the class\, we’ll dive into a sound bath during Shavasana\, offering a tranquil sound experience that will deepen your state of relaxation and help you fully absorb the benefits of your practice. Whether you’ve had a hectic workweek or simply need to reset\, this Yin yoga with sound bath is the perfect way to slow down\, release tension\, and find inner peace.
URL:https://cultivatekindness.co.uk/event/nurturing-yin-yoga-class-2/
LOCATION:Bodyworks Studio\, 53A Front Street\, York\, England\, YO24 3BR\, United Kingdom
CATEGORIES:Yoga
ATTACH;FMTTYPE=image/jpeg:https://cultivatekindness.co.uk/wp-content/uploads/2023/05/WhatsApp-Image-2023-05-13-at-22.20.08.jpeg
ORGANIZER;CN="Lauren":MAILTO:lauren@cultivatekindness.co.uk
END:VEVENT
BEGIN:VEVENT
DTSTART;TZID=Europe/London:20250506T193000
DTEND;TZID=Europe/London:20250506T203000
DTSTAMP:20260425T034924
CREATED:20250430T135249Z
LAST-MODIFIED:20250430T135249Z
UID:3128-1746559800-1746563400@cultivatekindness.co.uk
SUMMARY:Vinyasa Flow Yoga Class - With Essential Oils
DESCRIPTION:60-Minute Vinyasa Flow Yoga Class for All Abilities | Strong\, Fast-Paced Flow with Essential Oils & Shavasana \nJoin me for a revitalizing 60-minute Vinyasa Flow yoga class suitable for all abilities. This fast-paced Vinyasa class will help you move with your breath\, flowing seamlessly through each yoga posture while staying focused on the present moment. Designed to challenge your body and mind\, this class builds strength\, flexibility\, and endurance through a series of dynamic sequences. I also incorporate essential oils to enhance relaxation\, focus\, and mindfulness throughout your practice\, making it a truly holistic experience. Whether you’re a beginner or a seasoned practitioner\, this class will leave you feeling energized and centered. We end with a well-deserved rest in Shavasana\, allowing you to relax\, rejuvenate\, and absorb the benefits of your practice. Perfect for those seeking a challenging\, mindful yoga flow that leaves you feeling strong\, present\, and peaceful \nWhether you’re new to yoga or a seasoned practitioner\, our classes are suitable for all levels. Our instructors will guide you through each pose\, encouraging you to move at your own pace and focus on your breath. \nSo why not take some time for yourself and join us.
URL:https://cultivatekindness.co.uk/event/vinyasa-flow-yoga-class-with-essential-oils-3/
LOCATION:Bodyworks Studio\, 53A Front Street\, York\, England\, YO24 3BR\, United Kingdom
CATEGORIES:Yoga
ATTACH;FMTTYPE=image/jpeg:https://cultivatekindness.co.uk/wp-content/uploads/2023/05/WhatsApp-Image-2023-05-18-at-17.40.27.jpeg
ORGANIZER;CN="Lauren":MAILTO:lauren@cultivatekindness.co.uk
END:VEVENT
BEGIN:VEVENT
DTSTART;TZID=Europe/London:20250513T193000
DTEND;TZID=Europe/London:20250513T203000
DTSTAMP:20260425T034924
CREATED:20250512T212948Z
LAST-MODIFIED:20250512T213002Z
UID:3158-1747164600-1747168200@cultivatekindness.co.uk
SUMMARY:Vinyasa Flow Yoga Class - With Essential Oils
DESCRIPTION:60-Minute Vinyasa Flow Yoga Class for All Abilities | Strong\, Fast-Paced Flow with Essential Oils & Shavasana \nJoin me for a revitalizing 60-minute Vinyasa Flow yoga class suitable for all abilities. This fast-paced Vinyasa class will help you move with your breath\, flowing seamlessly through each yoga posture while staying focused on the present moment. Designed to challenge your body and mind\, this class builds strength\, flexibility\, and endurance through a series of dynamic sequences. I also incorporate essential oils to enhance relaxation\, focus\, and mindfulness throughout your practice\, making it a truly holistic experience. Whether you’re a beginner or a seasoned practitioner\, this class will leave you feeling energized and centered. We end with a well-deserved rest in Shavasana\, allowing you to relax\, rejuvenate\, and absorb the benefits of your practice. Perfect for those seeking a challenging\, mindful yoga flow that leaves you feeling strong\, present\, and peaceful \nWhether you’re new to yoga or a seasoned practitioner\, our classes are suitable for all levels. Our instructors will guide you through each pose\, encouraging you to move at your own pace and focus on your breath. \nSo why not take some time for yourself and join us.
URL:https://cultivatekindness.co.uk/event/vinyasa-flow-yoga-class-with-essential-oils-4/
LOCATION:Bodyworks Studio\, 53A Front Street\, York\, England\, YO24 3BR\, United Kingdom
CATEGORIES:Yoga
ATTACH;FMTTYPE=image/jpeg:https://cultivatekindness.co.uk/wp-content/uploads/2023/05/WhatsApp-Image-2023-05-18-at-17.40.27.jpeg
ORGANIZER;CN="Lauren":MAILTO:lauren@cultivatekindness.co.uk
END:VEVENT
BEGIN:VEVENT
DTSTART;TZID=Europe/London:20250516T191500
DTEND;TZID=Europe/London:20250516T201500
DTSTAMP:20260425T034924
CREATED:20250512T213315Z
LAST-MODIFIED:20250512T213315Z
UID:3162-1747422900-1747426500@cultivatekindness.co.uk
SUMMARY:Nurturing Yin Yoga Class
DESCRIPTION:60-Minute Nurturing Yin Yoga Class with Sound Bath | Calm Your Nervous System & Soothe Your Body After a Busy Week \nJoin me for a restorative 60-minute Yin Yoga class\, designed to help you unwind and rejuvenate after a busy week. This nurturing Yin yoga practice encourages the body to slow down\, calm the nervous system\, and promote deep relaxation. In this class\, we’ll hold gentle\, longer-duration poses that allow the body to release tension\, improve flexibility\, and restore balance. Perfect for relieving stress\, easing tight muscles\, and reconnecting with your body\, this session will leave you feeling grounded and peaceful. \nTo enhance your relaxation\, I incorporate soothing essential oils throughout the practice\, adding an extra layer of calm and mindfulness. At the end of the class\, we’ll dive into a sound bath during Shavasana\, offering a tranquil sound experience that will deepen your state of relaxation and help you fully absorb the benefits of your practice. Whether you’ve had a hectic workweek or simply need to reset\, this Yin yoga with sound bath is the perfect way to slow down\, release tension\, and find inner peace.
URL:https://cultivatekindness.co.uk/event/nurturing-yin-yoga-class/
LOCATION:Bodyworks Studio\, 53A Front Street\, York\, England\, YO24 3BR\, United Kingdom
CATEGORIES:Yoga
ATTACH;FMTTYPE=image/jpeg:https://cultivatekindness.co.uk/wp-content/uploads/2023/05/WhatsApp-Image-2023-05-13-at-22.20.08.jpeg
ORGANIZER;CN="Lauren":MAILTO:lauren@cultivatekindness.co.uk
END:VEVENT
BEGIN:VEVENT
DTSTART;TZID=Europe/London:20250520T193000
DTEND;TZID=Europe/London:20250520T203000
DTSTAMP:20260425T034924
CREATED:20250512T213705Z
LAST-MODIFIED:20250512T213705Z
UID:3166-1747769400-1747773000@cultivatekindness.co.uk
SUMMARY:Vinyasa Flow Yoga Class - With Essential Oils
DESCRIPTION:60-Minute Vinyasa Flow Yoga Class for All Abilities | Strong\, Fast-Paced Flow with Essential Oils & Shavasana \nJoin me for a revitalizing 60-minute Vinyasa Flow yoga class suitable for all abilities. This fast-paced Vinyasa class will help you move with your breath\, flowing seamlessly through each yoga posture while staying focused on the present moment. Designed to challenge your body and mind\, this class builds strength\, flexibility\, and endurance through a series of dynamic sequences. I also incorporate essential oils to enhance relaxation\, focus\, and mindfulness throughout your practice\, making it a truly holistic experience. Whether you’re a beginner or a seasoned practitioner\, this class will leave you feeling energized and centered. We end with a well-deserved rest in Shavasana\, allowing you to relax\, rejuvenate\, and absorb the benefits of your practice. Perfect for those seeking a challenging\, mindful yoga flow that leaves you feeling strong\, present\, and peaceful \nWhether you’re new to yoga or a seasoned practitioner\, our classes are suitable for all levels. Our instructors will guide you through each pose\, encouraging you to move at your own pace and focus on your breath. \nSo why not take some time for yourself and join us.
URL:https://cultivatekindness.co.uk/event/vinyasa-flow-yoga-class-with-essential-oils-5/
LOCATION:Bodyworks Studio\, 53A Front Street\, York\, England\, YO24 3BR\, United Kingdom
CATEGORIES:Yoga
ATTACH;FMTTYPE=image/jpeg:https://cultivatekindness.co.uk/wp-content/uploads/2023/05/WhatsApp-Image-2023-05-18-at-17.40.27.jpeg
ORGANIZER;CN="Lauren":MAILTO:lauren@cultivatekindness.co.uk
END:VEVENT
BEGIN:VEVENT
DTSTART;TZID=Europe/London:20250523T191500
DTEND;TZID=Europe/London:20250523T201500
DTSTAMP:20260425T034924
CREATED:20250512T214035Z
LAST-MODIFIED:20250512T214035Z
UID:3170-1748027700-1748031300@cultivatekindness.co.uk
SUMMARY:Nurturing Yin Yoga Class
DESCRIPTION:60-Minute Nurturing Yin Yoga Class with Sound Bath | Calm Your Nervous System & Soothe Your Body After a Busy Week \nJoin me for a restorative 60-minute Yin Yoga class\, designed to help you unwind and rejuvenate after a busy week. This nurturing Yin yoga practice encourages the body to slow down\, calm the nervous system\, and promote deep relaxation. In this class\, we’ll hold gentle\, longer-duration poses that allow the body to release tension\, improve flexibility\, and restore balance. Perfect for relieving stress\, easing tight muscles\, and reconnecting with your body\, this session will leave you feeling grounded and peaceful. \nTo enhance your relaxation\, I incorporate soothing essential oils throughout the practice\, adding an extra layer of calm and mindfulness. At the end of the class\, we’ll dive into a sound bath during Shavasana\, offering a tranquil sound experience that will deepen your state of relaxation and help you fully absorb the benefits of your practice. Whether you’ve had a hectic workweek or simply need to reset\, this Yin yoga with sound bath is the perfect way to slow down\, release tension\, and find inner peace.
URL:https://cultivatekindness.co.uk/event/nurturing-yin-yoga-class-3/
LOCATION:Bodyworks Studio\, 53A Front Street\, York\, England\, YO24 3BR\, United Kingdom
CATEGORIES:Yoga
ATTACH;FMTTYPE=image/jpeg:https://cultivatekindness.co.uk/wp-content/uploads/2023/05/WhatsApp-Image-2023-05-13-at-22.20.08.jpeg
ORGANIZER;CN="Lauren":MAILTO:lauren@cultivatekindness.co.uk
END:VEVENT
BEGIN:VEVENT
DTSTART;TZID=Europe/London:20250527T193000
DTEND;TZID=Europe/London:20250527T203000
DTSTAMP:20260425T034924
CREATED:20250512T214348Z
LAST-MODIFIED:20250512T214348Z
UID:3174-1748374200-1748377800@cultivatekindness.co.uk
SUMMARY:Vinyasa Flow Yoga Class - With Essential Oils
DESCRIPTION:60-Minute Vinyasa Flow Yoga Class for All Abilities | Strong\, Fast-Paced Flow with Essential Oils & Shavasana \nJoin me for a revitalizing 60-minute Vinyasa Flow yoga class suitable for all abilities. This fast-paced Vinyasa class will help you move with your breath\, flowing seamlessly through each yoga posture while staying focused on the present moment. Designed to challenge your body and mind\, this class builds strength\, flexibility\, and endurance through a series of dynamic sequences. I also incorporate essential oils to enhance relaxation\, focus\, and mindfulness throughout your practice\, making it a truly holistic experience. Whether you’re a beginner or a seasoned practitioner\, this class will leave you feeling energized and centered. We end with a well-deserved rest in Shavasana\, allowing you to relax\, rejuvenate\, and absorb the benefits of your practice. Perfect for those seeking a challenging\, mindful yoga flow that leaves you feeling strong\, present\, and peaceful \nWhether you’re new to yoga or a seasoned practitioner\, our classes are suitable for all levels. Our instructors will guide you through each pose\, encouraging you to move at your own pace and focus on your breath. \nSo why not take some time for yourself and join us.
URL:https://cultivatekindness.co.uk/event/vinyasa-flow-yoga-class-with-essential-oils-6/
LOCATION:Bodyworks Studio\, 53A Front Street\, York\, England\, YO24 3BR\, United Kingdom
CATEGORIES:Yoga
ATTACH;FMTTYPE=image/jpeg:https://cultivatekindness.co.uk/wp-content/uploads/2023/05/WhatsApp-Image-2023-05-18-at-17.40.27.jpeg
ORGANIZER;CN="Lauren":MAILTO:lauren@cultivatekindness.co.uk
END:VEVENT
BEGIN:VEVENT
DTSTART;TZID=Europe/London:20250530T191500
DTEND;TZID=Europe/London:20250530T201500
DTSTAMP:20260425T034924
CREATED:20250512T214727Z
LAST-MODIFIED:20250512T214727Z
UID:3178-1748632500-1748636100@cultivatekindness.co.uk
SUMMARY:Nurturing Yin Yoga Class
DESCRIPTION:60-Minute Nurturing Yin Yoga Class with Sound Bath | Calm Your Nervous System & Soothe Your Body After a Busy Week \nJoin me for a restorative 60-minute Yin Yoga class\, designed to help you unwind and rejuvenate after a busy week. This nurturing Yin yoga practice encourages the body to slow down\, calm the nervous system\, and promote deep relaxation. In this class\, we’ll hold gentle\, longer-duration poses that allow the body to release tension\, improve flexibility\, and restore balance. Perfect for relieving stress\, easing tight muscles\, and reconnecting with your body\, this session will leave you feeling grounded and peaceful. \nTo enhance your relaxation\, I incorporate soothing essential oils throughout the practice\, adding an extra layer of calm and mindfulness. At the end of the class\, we’ll dive into a sound bath during Shavasana\, offering a tranquil sound experience that will deepen your state of relaxation and help you fully absorb the benefits of your practice. Whether you’ve had a hectic workweek or simply need to reset\, this Yin yoga with sound bath is the perfect way to slow down\, release tension\, and find inner peace.
URL:https://cultivatekindness.co.uk/event/nurturing-yin-yoga-class-4/
LOCATION:Bodyworks Studio\, 53A Front Street\, York\, England\, YO24 3BR\, United Kingdom
CATEGORIES:Yoga
ATTACH;FMTTYPE=image/jpeg:https://cultivatekindness.co.uk/wp-content/uploads/2023/05/WhatsApp-Image-2023-05-13-at-22.20.08.jpeg
ORGANIZER;CN="Lauren":MAILTO:lauren@cultivatekindness.co.uk
END:VEVENT
END:VCALENDAR