BEGIN:VCALENDAR
VERSION:2.0
PRODID:-//Cultivate Kindness - ECPv6.15.20//NONSGML v1.0//EN
CALSCALE:GREGORIAN
METHOD:PUBLISH
X-WR-CALNAME:Cultivate Kindness
X-ORIGINAL-URL:https://cultivatekindness.co.uk
X-WR-CALDESC:Events for Cultivate Kindness
REFRESH-INTERVAL;VALUE=DURATION:PT1H
X-Robots-Tag:noindex
X-PUBLISHED-TTL:PT1H
BEGIN:VTIMEZONE
TZID:Europe/London
BEGIN:DAYLIGHT
TZOFFSETFROM:+0000
TZOFFSETTO:+0100
TZNAME:BST
DTSTART:20220327T010000
END:DAYLIGHT
BEGIN:STANDARD
TZOFFSETFROM:+0100
TZOFFSETTO:+0000
TZNAME:GMT
DTSTART:20221030T010000
END:STANDARD
BEGIN:DAYLIGHT
TZOFFSETFROM:+0000
TZOFFSETTO:+0100
TZNAME:BST
DTSTART:20230326T010000
END:DAYLIGHT
BEGIN:STANDARD
TZOFFSETFROM:+0100
TZOFFSETTO:+0000
TZNAME:GMT
DTSTART:20231029T010000
END:STANDARD
BEGIN:DAYLIGHT
TZOFFSETFROM:+0000
TZOFFSETTO:+0100
TZNAME:BST
DTSTART:20240331T010000
END:DAYLIGHT
BEGIN:STANDARD
TZOFFSETFROM:+0100
TZOFFSETTO:+0000
TZNAME:GMT
DTSTART:20241027T010000
END:STANDARD
BEGIN:DAYLIGHT
TZOFFSETFROM:+0000
TZOFFSETTO:+0100
TZNAME:BST
DTSTART:20250330T010000
END:DAYLIGHT
BEGIN:STANDARD
TZOFFSETFROM:+0100
TZOFFSETTO:+0000
TZNAME:GMT
DTSTART:20251026T010000
END:STANDARD
END:VTIMEZONE
BEGIN:VEVENT
DTSTART;TZID=Europe/London:20231004T080000
DTEND;TZID=Europe/London:20241004T170000
DTSTAMP:20260423T225533
CREATED:20231004T161827Z
LAST-MODIFIED:20231004T161827Z
UID:1663-1696406400-1728061200@cultivatekindness.co.uk
SUMMARY:One Month Unlimited Pass
DESCRIPTION:This ticket gives you access to all classes that are held throughout the month and any workshops\, making it a deal not to be missed. \nYou can use the ticket at any of the Cultivate Kindness venues. \nBookings are still required either via phone or email to ensure your place is reserved. 48hour cancellation policy still applies. \nThe more you use it\, the more save!
URL:https://cultivatekindness.co.uk/event/one-month-unlimited-pass/
LOCATION:All Venues\, York\, YO1 1AA\, United Kingdom
CATEGORIES:Outdoor,Retreats,Yoga
ATTACH;FMTTYPE=image/jpeg:https://cultivatekindness.co.uk/wp-content/uploads/2022/07/Black-and-white-large-scaled.jpg
ORGANIZER;CN="Lauren":MAILTO:lauren@cultivatekindness.co.uk
END:VEVENT
BEGIN:VEVENT
DTSTART;TZID=Europe/London:20240503T191500
DTEND;TZID=Europe/London:20240503T201500
DTSTAMP:20260423T225533
CREATED:20240402T162638Z
LAST-MODIFIED:20240402T162638Z
UID:2240-1714763700-1714767300@cultivatekindness.co.uk
SUMMARY:Nurturing Yoga Class
DESCRIPTION:This Nurturing Yoga class is perfect for anyone looking to release tension and experience the benefits of a gentle\, but deep stretch. Come join us for a slow and grounding yoga class that focuses on stretching your body\, calming your mind\, and connecting with your breath. \nWe will begin with some gentle warm-up movements\, followed by a series of Sun Salutations to warm up the body and create a flow of energy. Throughout the class\, you will be guided through a series of slow and mindful yoga poses aimed at stretching and lengthening the body. \nTowards the end of the class\, we will integrate some sound bowls to bring a deep sense of relaxation to the body and mind\, and help you release any pent-up tension or stress. The sound waves will stimulate a meditative state\, and help you connect with your inner self\, and truly melt into the present moment. \nWe will then end the class with a relaxing Shavasana where you can rest\, rejuvenate\, and fully absorb all the benefits of the practice. You will leave feeling more calm\, centered\, and with a greater sense of presence in your life. Join us for this exquisite and transformative yoga class!
URL:https://cultivatekindness.co.uk/event/nurturing-yoga-class-28/
LOCATION:Bodyworks Studio\, 53A Front Street\, York\, England\, YO24 3BR\, United Kingdom
CATEGORIES:Yoga
ATTACH;FMTTYPE=image/jpeg:https://cultivatekindness.co.uk/wp-content/uploads/2023/05/WhatsApp-Image-2023-05-13-at-22.20.08.jpeg
ORGANIZER;CN="Lauren":MAILTO:lauren@cultivatekindness.co.uk
END:VEVENT
BEGIN:VEVENT
DTSTART;TZID=Europe/London:20240516T191500
DTEND;TZID=Europe/London:20240516T201500
DTSTAMP:20260423T225533
CREATED:20240510T201124Z
LAST-MODIFIED:20240510T201124Z
UID:2265-1715886900-1715890500@cultivatekindness.co.uk
SUMMARY:Yoga Class with essential oils
DESCRIPTION:Our Vinyasa Yoga classes start with a gentle warm-up and some pranayama (Guided breathing exercises)\, gradually building into sun salutations and standing poses to warm up the entire body. We’ll then move into seated and supine poses to release tension in the hips and lower back this will lead into a Vinyasa flow. Finally\, we’ll end the class with 5 minutes of Savasana to allow the body and mind to fully relax\, this will be accompanied by a essential oils to help reduce stress. \nWhether you’re new to yoga or a seasoned practitioner\, our classes are suitable for all levels. Our instructors will guide you through each pose\, encouraging you to move at your own pace and focus on your breath. \nSo why not take some time for yourself and join us for a 60-minute yoga class? Your body and mind will thank you. Contact us today to book your spot!
URL:https://cultivatekindness.co.uk/event/yoga-class-with-essential-oils-29/
LOCATION:Bodyworks Studio\, 53A Front Street\, York\, England\, YO24 3BR\, United Kingdom
CATEGORIES:Yoga
ATTACH;FMTTYPE=image/jpeg:https://cultivatekindness.co.uk/wp-content/uploads/2023/05/Events_Image1.jpg
ORGANIZER;CN="Lauren":MAILTO:lauren@cultivatekindness.co.uk
END:VEVENT
BEGIN:VEVENT
DTSTART;TZID=Europe/London:20240517T191500
DTEND;TZID=Europe/London:20240517T201500
DTSTAMP:20260423T225533
CREATED:20240510T201503Z
LAST-MODIFIED:20240510T201503Z
UID:2269-1715973300-1715976900@cultivatekindness.co.uk
SUMMARY:Nurturing Yoga Class
DESCRIPTION:This Nurturing Yoga class is perfect for anyone looking to release tension and experience the benefits of a gentle\, but deep stretch. Come join us for a slow and grounding yoga class that focuses on stretching your body\, calming your mind\, and connecting with your breath. \nWe will begin with some gentle warm-up movements\, followed by a series of Sun Salutations to warm up the body and create a flow of energy. Throughout the class\, you will be guided through a series of slow and mindful yoga poses aimed at stretching and lengthening the body. \nTowards the end of the class\, we will integrate some sound bowls to bring a deep sense of relaxation to the body and mind\, and help you release any pent-up tension or stress. The sound waves will stimulate a meditative state\, and help you connect with your inner self\, and truly melt into the present moment. \nWe will then end the class with a relaxing Shavasana where you can rest\, rejuvenate\, and fully absorb all the benefits of the practice. You will leave feeling more calm\, centered\, and with a greater sense of presence in your life. Join us for this exquisite and transformative yoga class!
URL:https://cultivatekindness.co.uk/event/nurturing-yoga-class-29/
LOCATION:Bodyworks Studio\, 53A Front Street\, York\, England\, YO24 3BR\, United Kingdom
CATEGORIES:Yoga
ATTACH;FMTTYPE=image/jpeg:https://cultivatekindness.co.uk/wp-content/uploads/2023/05/WhatsApp-Image-2023-05-13-at-22.20.08.jpeg
ORGANIZER;CN="Lauren":MAILTO:lauren@cultivatekindness.co.uk
END:VEVENT
BEGIN:VEVENT
DTSTART;TZID=Europe/London:20240523T191500
DTEND;TZID=Europe/London:20240523T201500
DTSTAMP:20260423T225533
CREATED:20240510T201713Z
LAST-MODIFIED:20240510T201713Z
UID:2273-1716491700-1716495300@cultivatekindness.co.uk
SUMMARY:Yoga Class with essential oils
DESCRIPTION:Our Vinyasa Yoga classes start with a gentle warm-up and some pranayama (Guided breathing exercises)\, gradually building into sun salutations and standing poses to warm up the entire body. We’ll then move into seated and supine poses to release tension in the hips and lower back this will lead into a Vinyasa flow. Finally\, we’ll end the class with 5 minutes of Savasana to allow the body and mind to fully relax\, this will be accompanied by a essential oils to help reduce stress. \nWhether you’re new to yoga or a seasoned practitioner\, our classes are suitable for all levels. Our instructors will guide you through each pose\, encouraging you to move at your own pace and focus on your breath. \nSo why not take some time for yourself and join us for a 60-minute yoga class? Your body and mind will thank you. Contact us today to book your spot!
URL:https://cultivatekindness.co.uk/event/yoga-class-with-essential-oils-30/
LOCATION:Bodyworks Studio\, 53A Front Street\, York\, England\, YO24 3BR\, United Kingdom
CATEGORIES:Yoga
ATTACH;FMTTYPE=image/jpeg:https://cultivatekindness.co.uk/wp-content/uploads/2023/05/Events_Image1.jpg
ORGANIZER;CN="Lauren":MAILTO:lauren@cultivatekindness.co.uk
END:VEVENT
BEGIN:VEVENT
DTSTART;TZID=Europe/London:20240524T120000
DTEND;TZID=Europe/London:20240524T130000
DTSTAMP:20260423T225533
CREATED:20240510T201925Z
LAST-MODIFIED:20240523T105138Z
UID:2277-1716552000-1716555600@cultivatekindness.co.uk
SUMMARY:Lunchtime Nurturing Yoga Class
DESCRIPTION:This Nurturing Yoga class is perfect for anyone looking to release tension and experience the benefits of a gentle\, but deep stretch. Come join us for a slow and grounding yoga class that focuses on stretching your body\, calming your mind\, and connecting with your breath. \nWe will begin with some gentle warm-up movements\, followed by a series of Sun Salutations to warm up the body and create a flow of energy. Throughout the class\, you will be guided through a series of slow and mindful yoga poses aimed at stretching and lengthening the body. \nTowards the end of the class\, we will integrate some sound bowls to bring a deep sense of relaxation to the body and mind\, and help you release any pent-up tension or stress. The sound waves will stimulate a meditative state\, and help you connect with your inner self\, and truly melt into the present moment. \nWe will then end the class with a relaxing Shavasana where you can rest\, rejuvenate\, and fully absorb all the benefits of the practice. You will leave feeling more calm\, centered\, and with a greater sense of presence in your life. Join us for this exquisite and transformative yoga class!
URL:https://cultivatekindness.co.uk/event/nurturing-yoga-class-30/
LOCATION:Bodyworks Studio\, 53A Front Street\, York\, England\, YO24 3BR\, United Kingdom
CATEGORIES:Yoga
ATTACH;FMTTYPE=image/jpeg:https://cultivatekindness.co.uk/wp-content/uploads/2023/05/WhatsApp-Image-2023-05-13-at-22.20.08.jpeg
ORGANIZER;CN="Lauren":MAILTO:lauren@cultivatekindness.co.uk
END:VEVENT
BEGIN:VEVENT
DTSTART;TZID=Europe/London:20240530T191500
DTEND;TZID=Europe/London:20240530T201500
DTSTAMP:20260423T225533
CREATED:20240510T202127Z
LAST-MODIFIED:20240510T202127Z
UID:2281-1717096500-1717100100@cultivatekindness.co.uk
SUMMARY:Yoga Class with essential oils
DESCRIPTION:Our Vinyasa Yoga classes start with a gentle warm-up and some pranayama (Guided breathing exercises)\, gradually building into sun salutations and standing poses to warm up the entire body. We’ll then move into seated and supine poses to release tension in the hips and lower back this will lead into a Vinyasa flow. Finally\, we’ll end the class with 5 minutes of Savasana to allow the body and mind to fully relax\, this will be accompanied by a essential oils to help reduce stress. \nWhether you’re new to yoga or a seasoned practitioner\, our classes are suitable for all levels. Our instructors will guide you through each pose\, encouraging you to move at your own pace and focus on your breath. \nSo why not take some time for yourself and join us for a 60-minute yoga class? Your body and mind will thank you. Contact us today to book your spot!
URL:https://cultivatekindness.co.uk/event/yoga-class-with-essential-oils-31/
LOCATION:Bodyworks Studio\, 53A Front Street\, York\, England\, YO24 3BR\, United Kingdom
CATEGORIES:Yoga
ATTACH;FMTTYPE=image/jpeg:https://cultivatekindness.co.uk/wp-content/uploads/2023/05/Events_Image1.jpg
ORGANIZER;CN="Lauren":MAILTO:lauren@cultivatekindness.co.uk
END:VEVENT
BEGIN:VEVENT
DTSTART;TZID=Europe/London:20240531T191500
DTEND;TZID=Europe/London:20240531T201500
DTSTAMP:20260423T225533
CREATED:20240510T203037Z
LAST-MODIFIED:20240521T102220Z
UID:2293-1717182900-1717186500@cultivatekindness.co.uk
SUMMARY:Nurturing Yoga Class
DESCRIPTION:This Nurturing Yoga class is perfect for anyone looking to release tension and experience the benefits of a gentle\, but deep stretch. Come join us for a slow and grounding yoga class that focuses on stretching your body\, calming your mind\, and connecting with your breath. \nWe will begin with some gentle warm-up movements\, followed by a series of Sun Salutations to warm up the body and create a flow of energy. Throughout the class\, you will be guided through a series of slow and mindful yoga poses aimed at stretching and lengthening the body. \nTowards the end of the class\, we will integrate some sound bowls to bring a deep sense of relaxation to the body and mind\, and help you release any pent-up tension or stress. The sound waves will stimulate a meditative state\, and help you connect with your inner self\, and truly melt into the present moment. \nWe will then end the class with a relaxing Shavasana where you can rest\, rejuvenate\, and fully absorb all the benefits of the practice. You will leave feeling more calm\, centered\, and with a greater sense of presence in your life. Join us for this exquisite and transformative yoga class!
URL:https://cultivatekindness.co.uk/event/nurturing-yoga-class-32/
LOCATION:Bodyworks Studio\, 53A Front Street\, York\, England\, YO24 3BR\, United Kingdom
CATEGORIES:Yoga
ATTACH;FMTTYPE=image/jpeg:https://cultivatekindness.co.uk/wp-content/uploads/2023/05/WhatsApp-Image-2023-05-13-at-22.20.08.jpeg
ORGANIZER;CN="Lauren":MAILTO:lauren@cultivatekindness.co.uk
END:VEVENT
END:VCALENDAR