BEGIN:VCALENDAR
VERSION:2.0
PRODID:-//Cultivate Kindness - ECPv6.15.20//NONSGML v1.0//EN
CALSCALE:GREGORIAN
METHOD:PUBLISH
X-ORIGINAL-URL:https://cultivatekindness.co.uk
X-WR-CALDESC:Events for Cultivate Kindness
REFRESH-INTERVAL;VALUE=DURATION:PT1H
X-Robots-Tag:noindex
X-PUBLISHED-TTL:PT1H
BEGIN:VTIMEZONE
TZID:Europe/London
BEGIN:DAYLIGHT
TZOFFSETFROM:+0000
TZOFFSETTO:+0100
TZNAME:BST
DTSTART:20220327T010000
END:DAYLIGHT
BEGIN:STANDARD
TZOFFSETFROM:+0100
TZOFFSETTO:+0000
TZNAME:GMT
DTSTART:20221030T010000
END:STANDARD
BEGIN:DAYLIGHT
TZOFFSETFROM:+0000
TZOFFSETTO:+0100
TZNAME:BST
DTSTART:20230326T010000
END:DAYLIGHT
BEGIN:STANDARD
TZOFFSETFROM:+0100
TZOFFSETTO:+0000
TZNAME:GMT
DTSTART:20231029T010000
END:STANDARD
BEGIN:DAYLIGHT
TZOFFSETFROM:+0000
TZOFFSETTO:+0100
TZNAME:BST
DTSTART:20240331T010000
END:DAYLIGHT
BEGIN:STANDARD
TZOFFSETFROM:+0100
TZOFFSETTO:+0000
TZNAME:GMT
DTSTART:20241027T010000
END:STANDARD
BEGIN:DAYLIGHT
TZOFFSETFROM:+0000
TZOFFSETTO:+0100
TZNAME:BST
DTSTART:20250330T010000
END:DAYLIGHT
BEGIN:STANDARD
TZOFFSETFROM:+0100
TZOFFSETTO:+0000
TZNAME:GMT
DTSTART:20251026T010000
END:STANDARD
END:VTIMEZONE
BEGIN:VEVENT
DTSTART;TZID=Europe/London:20231004T080000
DTEND;TZID=Europe/London:20241004T170000
DTSTAMP:20260424T134039
CREATED:20231004T161827Z
LAST-MODIFIED:20231004T161827Z
UID:1663-1696406400-1728061200@cultivatekindness.co.uk
SUMMARY:One Month Unlimited Pass
DESCRIPTION:This ticket gives you access to all classes that are held throughout the month and any workshops\, making it a deal not to be missed. \nYou can use the ticket at any of the Cultivate Kindness venues. \nBookings are still required either via phone or email to ensure your place is reserved. 48hour cancellation policy still applies. \nThe more you use it\, the more save!
URL:https://cultivatekindness.co.uk/event/one-month-unlimited-pass/
LOCATION:All Venues\, York\, YO1 1AA\, United Kingdom
CATEGORIES:Outdoor,Retreats,Yoga
ATTACH;FMTTYPE=image/jpeg:https://cultivatekindness.co.uk/wp-content/uploads/2022/07/Black-and-white-large-scaled.jpg
ORGANIZER;CN="Lauren":MAILTO:lauren@cultivatekindness.co.uk
END:VEVENT
BEGIN:VEVENT
DTSTART;TZID=Europe/London:20231102T191500
DTEND;TZID=Europe/London:20231102T200000
DTSTAMP:20260424T134039
CREATED:20231003T135826Z
LAST-MODIFIED:20231003T140057Z
UID:1634-1698952500-1698955200@cultivatekindness.co.uk
SUMMARY:Yoga Class with essential oils
DESCRIPTION:Our classes start with a gentle warm-up and some pranayama (Guided breathing exercises)\, gradually building into sun salutations and standing poses to warm up the entire body. We’ll then move into seated and supine poses to release tension in the hips and lower back this will lead into a Vinyasa flow. Finally\, we’ll end the class with 5 minutes of Savasana to allow the body and mind to fully relax\, this will be accompanied by a essential oils to help reduce stress. \nWhether you’re new to yoga or a seasoned practitioner\, our classes are suitable for all levels. Our instructors will guide you through each pose\, encouraging you to move at your own pace and focus on your breath. \nSo why not take some time for yourself and join us for a 45-minute yoga class? Your body and mind will thank you. Contact us today to book your spot!
URL:https://cultivatekindness.co.uk/event/yoga-class-with-essential-oils-8/
LOCATION:Bodyworks Studio\, 53A Front Street\, York\, England\, YO24 3BR\, United Kingdom
CATEGORIES:Yoga
ATTACH;FMTTYPE=image/jpeg:https://cultivatekindness.co.uk/wp-content/uploads/2023/05/Events_Image1.jpg
ORGANIZER;CN="Lauren":MAILTO:lauren@cultivatekindness.co.uk
END:VEVENT
BEGIN:VEVENT
DTSTART;TZID=Europe/London:20231109T191500
DTEND;TZID=Europe/London:20231109T200000
DTSTAMP:20260424T134039
CREATED:20231003T142215Z
LAST-MODIFIED:20231003T155327Z
UID:1638-1699557300-1699560000@cultivatekindness.co.uk
SUMMARY:Yoga Class with essential oils
DESCRIPTION:Our classes start with a gentle warm-up and some pranayama (Guided breathing exercises)\, gradually building into sun salutations and standing poses to warm up the entire body. We’ll then move into seated and supine poses to release tension in the hips and lower back this will lead into a Vinyasa flow. Finally\, we’ll end the class with 5 minutes of Savasana to allow the body and mind to fully relax\, this will be accompanied by a essential oils to help reduce stress. \nWhether you’re new to yoga or a seasoned practitioner\, our classes are suitable for all levels. Our instructors will guide you through each pose\, encouraging you to move at your own pace and focus on your breath. \nSo why not take some time for yourself and join us for a 45-minute yoga class? Your body and mind will thank you. Contact us today to book your spot!
URL:https://cultivatekindness.co.uk/event/yoga-class-with-essential-oils-9/
LOCATION:Bodyworks Studio\, 53A Front Street\, York\, England\, YO24 3BR\, United Kingdom
CATEGORIES:Yoga
ATTACH;FMTTYPE=image/jpeg:https://cultivatekindness.co.uk/wp-content/uploads/2023/05/Events_Image1.jpg
ORGANIZER;CN="Lauren":MAILTO:lauren@cultivatekindness.co.uk
END:VEVENT
BEGIN:VEVENT
DTSTART;TZID=Europe/London:20231110T191500
DTEND;TZID=Europe/London:20231110T200000
DTSTAMP:20260424T134039
CREATED:20231003T172322Z
LAST-MODIFIED:20231003T172322Z
UID:1644-1699643700-1699646400@cultivatekindness.co.uk
SUMMARY:Nurturing Yoga Class
DESCRIPTION:Come join us for a slow and grounding yoga class that focuses on stretching your body\, calming your mind\, and connecting with your breath. This class is perfect for anyone looking to release tension and experience the benefits of a gentle\, but deep stretch. \nWe will begin with some gentle warm-up movements\, followed by a series of Sun Salutations to warm up the body and create a flow of energy. Throughout the class\, you will be guided through a series of slow and mindful yoga poses aimed at stretching and lengthening the body. \nTowards the end of the class\, we will integrate some sound bowls to bring a deep sense of relaxation to the body and mind\, and help you release any pent-up tension or stress. The sound waves will stimulate a meditative state\, and help you connect with your inner self\, and truly melt into the present moment. \nWe will then end the class with a relaxing Shavasana where you can rest\, rejuvenate\, and fully absorb all the benefits of the practice. You will leave feeling more calm\, centered\, and with a greater sense of presence in your life. Join us for this exquisite and transformative yoga class!
URL:https://cultivatekindness.co.uk/event/nurturing-yoga-class-11/
LOCATION:Bodyworks Studio\, 53A Front Street\, York\, England\, YO24 3BR\, United Kingdom
CATEGORIES:Yoga
ATTACH;FMTTYPE=image/jpeg:https://cultivatekindness.co.uk/wp-content/uploads/2023/05/WhatsApp-Image-2023-05-13-at-22.20.08.jpeg
ORGANIZER;CN="Lauren":MAILTO:lauren@cultivatekindness.co.uk
END:VEVENT
BEGIN:VEVENT
DTSTART;TZID=Europe/London:20231116T191500
DTEND;TZID=Europe/London:20231116T200000
DTSTAMP:20260424T134039
CREATED:20231003T172514Z
LAST-MODIFIED:20231003T172514Z
UID:1648-1700162100-1700164800@cultivatekindness.co.uk
SUMMARY:Yoga Class with essential oils
DESCRIPTION:Our classes start with a gentle warm-up and some pranayama (Guided breathing exercises)\, gradually building into sun salutations and standing poses to warm up the entire body. We’ll then move into seated and supine poses to release tension in the hips and lower back this will lead into a Vinyasa flow. Finally\, we’ll end the class with 5 minutes of Savasana to allow the body and mind to fully relax\, this will be accompanied by a essential oils to help reduce stress. \nWhether you’re new to yoga or a seasoned practitioner\, our classes are suitable for all levels. Our instructors will guide you through each pose\, encouraging you to move at your own pace and focus on your breath. \nSo why not take some time for yourself and join us for a 45-minute yoga class? Your body and mind will thank you. Contact us today to book your spot!
URL:https://cultivatekindness.co.uk/event/yoga-class-with-essential-oils-10/
LOCATION:Bodyworks Studio\, 53A Front Street\, York\, England\, YO24 3BR\, United Kingdom
CATEGORIES:Yoga
ATTACH;FMTTYPE=image/jpeg:https://cultivatekindness.co.uk/wp-content/uploads/2023/05/Events_Image1.jpg
ORGANIZER;CN="Lauren":MAILTO:lauren@cultivatekindness.co.uk
END:VEVENT
BEGIN:VEVENT
DTSTART;TZID=Europe/London:20231117T191500
DTEND;TZID=Europe/London:20231117T200000
DTSTAMP:20260424T134039
CREATED:20231003T172710Z
LAST-MODIFIED:20231003T172710Z
UID:1652-1700248500-1700251200@cultivatekindness.co.uk
SUMMARY:Nurturing Yoga Class
DESCRIPTION:Come join us for a slow and grounding yoga class that focuses on stretching your body\, calming your mind\, and connecting with your breath. This class is perfect for anyone looking to release tension and experience the benefits of a gentle\, but deep stretch. \nWe will begin with some gentle warm-up movements\, followed by a series of Sun Salutations to warm up the body and create a flow of energy. Throughout the class\, you will be guided through a series of slow and mindful yoga poses aimed at stretching and lengthening the body. \nTowards the end of the class\, we will integrate some sound bowls to bring a deep sense of relaxation to the body and mind\, and help you release any pent-up tension or stress. The sound waves will stimulate a meditative state\, and help you connect with your inner self\, and truly melt into the present moment. \nWe will then end the class with a relaxing Shavasana where you can rest\, rejuvenate\, and fully absorb all the benefits of the practice. You will leave feeling more calm\, centered\, and with a greater sense of presence in your life. Join us for this exquisite and transformative yoga class!
URL:https://cultivatekindness.co.uk/event/nurturing-yoga-class-12/
LOCATION:Bodyworks Studio\, 53A Front Street\, York\, England\, YO24 3BR\, United Kingdom
CATEGORIES:Yoga
ATTACH;FMTTYPE=image/jpeg:https://cultivatekindness.co.uk/wp-content/uploads/2023/05/WhatsApp-Image-2023-05-13-at-22.20.08.jpeg
ORGANIZER;CN="Lauren":MAILTO:lauren@cultivatekindness.co.uk
END:VEVENT
BEGIN:VEVENT
DTSTART;TZID=Europe/London:20231123T191500
DTEND;TZID=Europe/London:20231123T200000
DTSTAMP:20260424T134039
CREATED:20231003T174255Z
LAST-MODIFIED:20231121T151249Z
UID:1656-1700766900-1700769600@cultivatekindness.co.uk
SUMMARY:Yoga Class with essential oils
DESCRIPTION:Our classes start with a gentle warm-up and some pranayama (Guided breathing exercises)\, gradually building into sun salutations and standing poses to warm up the entire body. We’ll then move into seated and supine poses to release tension in the hips and lower back this will lead into a Vinyasa flow. Finally\, we’ll end the class with 5 minutes of Savasana to allow the body and mind to fully relax\, this will be accompanied by a essential oils to help reduce stress. \nWhether you’re new to yoga or a seasoned practitioner\, our classes are suitable for all levels. Our instructors will guide you through each pose\, encouraging you to move at your own pace and focus on your breath. \nSo why not take some time for yourself and join us for a 45-minute yoga class? Your body and mind will thank you. Contact us today to book your spot!
URL:https://cultivatekindness.co.uk/event/yoga-class-with-essential-oils-11/
LOCATION:Bodyworks Studio\, 53A Front Street\, York\, England\, YO24 3BR\, United Kingdom
CATEGORIES:Yoga
ATTACH;FMTTYPE=image/jpeg:https://cultivatekindness.co.uk/wp-content/uploads/2023/05/Events_Image1.jpg
ORGANIZER;CN="Lauren":MAILTO:lauren@cultivatekindness.co.uk
END:VEVENT
BEGIN:VEVENT
DTSTART;TZID=Europe/London:20231130T191500
DTEND;TZID=Europe/London:20231130T200000
DTSTAMP:20260424T134039
CREATED:20231121T094548Z
LAST-MODIFIED:20231129T134721Z
UID:1755-1701371700-1701374400@cultivatekindness.co.uk
SUMMARY:Yoga Class with essential oils
DESCRIPTION:Our classes start with a gentle warm-up and some pranayama (Guided breathing exercises)\, gradually building into sun salutations and standing poses to warm up the entire body. We’ll then move into seated and supine poses to release tension in the hips and lower back this will lead into a Vinyasa flow. Finally\, we’ll end the class with 5 minutes of Savasana to allow the body and mind to fully relax\, this will be accompanied by a essential oils to help reduce stress. \nWhether you’re new to yoga or a seasoned practitioner\, our classes are suitable for all levels. Our instructors will guide you through each pose\, encouraging you to move at your own pace and focus on your breath. \nSo why not take some time for yourself and join us for a 60-minute yoga class? Your body and mind will thank you. Contact us today to book your spot!
URL:https://cultivatekindness.co.uk/event/yoga-class-with-essential-oils-12/
LOCATION:Bodyworks Studio\, 53A Front Street\, York\, England\, YO24 3BR\, United Kingdom
CATEGORIES:Yoga
ATTACH;FMTTYPE=image/jpeg:https://cultivatekindness.co.uk/wp-content/uploads/2023/05/Events_Image1.jpg
ORGANIZER;CN="Lauren":MAILTO:lauren@cultivatekindness.co.uk
END:VEVENT
END:VCALENDAR