BEGIN:VCALENDAR
VERSION:2.0
PRODID:-//Cultivate Kindness - ECPv6.15.20//NONSGML v1.0//EN
CALSCALE:GREGORIAN
METHOD:PUBLISH
X-ORIGINAL-URL:https://cultivatekindness.co.uk
X-WR-CALDESC:Events for Cultivate Kindness
REFRESH-INTERVAL;VALUE=DURATION:PT1H
X-Robots-Tag:noindex
X-PUBLISHED-TTL:PT1H
BEGIN:VTIMEZONE
TZID:Europe/London
BEGIN:DAYLIGHT
TZOFFSETFROM:+0000
TZOFFSETTO:+0100
TZNAME:BST
DTSTART:20240331T010000
END:DAYLIGHT
BEGIN:STANDARD
TZOFFSETFROM:+0100
TZOFFSETTO:+0000
TZNAME:GMT
DTSTART:20241027T010000
END:STANDARD
BEGIN:DAYLIGHT
TZOFFSETFROM:+0000
TZOFFSETTO:+0100
TZNAME:BST
DTSTART:20250330T010000
END:DAYLIGHT
BEGIN:STANDARD
TZOFFSETFROM:+0100
TZOFFSETTO:+0000
TZNAME:GMT
DTSTART:20251026T010000
END:STANDARD
BEGIN:DAYLIGHT
TZOFFSETFROM:+0000
TZOFFSETTO:+0100
TZNAME:BST
DTSTART:20260329T010000
END:DAYLIGHT
BEGIN:STANDARD
TZOFFSETFROM:+0100
TZOFFSETTO:+0000
TZNAME:GMT
DTSTART:20261025T010000
END:STANDARD
BEGIN:DAYLIGHT
TZOFFSETFROM:+0000
TZOFFSETTO:+0100
TZNAME:BST
DTSTART:20270328T010000
END:DAYLIGHT
BEGIN:STANDARD
TZOFFSETFROM:+0100
TZOFFSETTO:+0000
TZNAME:GMT
DTSTART:20271031T010000
END:STANDARD
BEGIN:DAYLIGHT
TZOFFSETFROM:+0000
TZOFFSETTO:+0100
TZNAME:BST
DTSTART:20280326T010000
END:DAYLIGHT
BEGIN:STANDARD
TZOFFSETFROM:+0100
TZOFFSETTO:+0000
TZNAME:GMT
DTSTART:20281029T010000
END:STANDARD
END:VTIMEZONE
BEGIN:VEVENT
DTSTART;TZID=Europe/London:20250818T080000
DTEND;TZID=Europe/London:20271231T170000
DTSTAMP:20260422T165521
CREATED:20250818T112507Z
LAST-MODIFIED:20260105T113000Z
UID:3500-1755504000-1830272400@cultivatekindness.co.uk
SUMMARY:Monthly Pass
DESCRIPTION:All classes\, workshops and Soundbaths. \nBookings need to be made via email or phone to ensure the class booked.
URL:https://cultivatekindness.co.uk/event/monthly-pass/
LOCATION:All Venues\, York\, YO1 1AA\, United Kingdom
CATEGORIES:Yoga
ATTACH;FMTTYPE=image/jpeg:https://cultivatekindness.co.uk/wp-content/uploads/2023/05/yaga-header4.jpg-e1756574139983.jpg
ORGANIZER;CN="Lauren":MAILTO:lauren@cultivatekindness.co.uk
END:VEVENT
BEGIN:VEVENT
DTSTART;TZID=Europe/London:20251128T191500
DTEND;TZID=Europe/London:20251128T201500
DTSTAMP:20260422T165521
CREATED:20251103T191940Z
LAST-MODIFIED:20251103T191940Z
UID:3758-1764357300-1764360900@cultivatekindness.co.uk
SUMMARY:Nurturing Yin Yoga Class
DESCRIPTION:60-Minute Nurturing Yin Yoga Class with Sound Bath | Calm Your Nervous System & Soothe Your Body After a Busy Week \nJoin me for a restorative 60-minute Yin Yoga class\, designed to help you unwind and rejuvenate after a busy week. This nurturing Yin yoga practice encourages the body to slow down\, calm the nervous system\, and promote deep relaxation. In this class\, we’ll hold gentle\, longer-duration poses that allow the body to release tension\, improve flexibility\, and restore balance. Perfect for relieving stress\, easing tight muscles\, and reconnecting with your body\, this session will leave you feeling grounded and peaceful. \nTo enhance your relaxation\, I incorporate soothing essential oils throughout the practice\, adding an extra layer of calm and mindfulness. At the end of the class\, we’ll dive into a sound bath during Shavasana\, offering a tranquil sound experience that will deepen your state of relaxation and help you fully absorb the benefits of your practice. Whether you’ve had a hectic workweek or simply need to reset\, this Yin yoga with sound bath is the perfect way to slow down\, release tension\, and find inner peace.
URL:https://cultivatekindness.co.uk/event/nurturing-yin-yoga-class-21/
LOCATION:Bodyworks Studio\, 53A Front Street\, York\, England\, YO24 3BR\, United Kingdom
CATEGORIES:Yoga
ATTACH;FMTTYPE=image/jpeg:https://cultivatekindness.co.uk/wp-content/uploads/2023/05/WhatsApp-Image-2023-05-13-at-22.20.08.jpeg
ORGANIZER;CN="Lauren":MAILTO:lauren@cultivatekindness.co.uk
END:VEVENT
BEGIN:VEVENT
DTSTART;TZID=Europe/London:20251128T191500
DTEND;TZID=Europe/London:20251128T204500
DTSTAMP:20260422T165521
CREATED:20251115T074006Z
LAST-MODIFIED:20251127T134622Z
UID:3811-1764357300-1764362700@cultivatekindness.co.uk
SUMMARY:Sound Bath by Candlelight (Including Indian singing by Rabia) SOLD OUT
DESCRIPTION:Experience the soothing power of sound with our immersive 90-minute candlelit Sound Bath in York\, where healing vibrations\, ancient musical traditions and calming ambience come together to restore balance and peace. \nWe are delighted to welcome two extraordinary guest artists for this special sound bath in York. Masters of traditional Indian singing and skilled performers on the sitar\, their deep connection to raga—the expressive\, melodic framework of Indian classical music—creates a spiritual and emotional sound journey unlike anything else in the area. Their music brings an authentic and soulful presence to the session\, offering a rare opportunity to experience the beauty of raga in a therapeutic\, meditative setting. \nFor this sound bath Lauren is joined by Rabia and Harry who will take you on a meditative sound journey using voice\, guitar\, autoharp\, tanpura and flute. Using the knowledge of traditional Indian Raga and mantra\, they will create a beautiful yet soothing soundscape to nourish mind\, body and soul… \nTo begin the session\, her melodic voice and intricate sitar performance will set a meditative tone\, gently guiding you into a state of relaxation and mindfulness. The rich\, immersive sounds of raga are known to align the mind and body\, preparing you to fully embrace the transformative power of the sound bath.\n\nAs we conclude\, her soothing music will carry you back to the present moment\, providing a grounding and uplifting close to your experience. Her artistry and passion for this timeless tradition make her a perfect complement to the healing vibrations of the crystal sound bowls and Chinese wind gong. Together\, this collaboration promises to be an unforgettable journey of sound\, energy\, and tranquility.\nWhether you’re seeking stress relief\, emotional release\, or a deeper connection to yourself\, our sound bath offers a unique space for healing and renewal. Join us and let the sounds wash over you\, bringing you to a state of balance and peace. \nAbout Rabia: \nHi I’m Rabia and I’ve been studying Indian Raga music as a vocal and spiritual practice for over a decade. Singing is like a meditation for me\, it helps me to tune in a connect to all that is sacred. In mysticism we understand that music and vibration itself is what makes up the cosmos\, raga and mantra music therefore has a great potential to create calm and healing through its beauty and depth. It can free us from what we don’t need\, cracking and shedding the dross if you like\, of the material realm\, getting the energy flowing\, allowing Joy to emerge in our hearts. As well as Indian raga I love to sing mantra and share Kirtan in groups. I sing Turkish devotional music and lead whirling events as well as Dances of Universal Peace.
URL:https://cultivatekindness.co.uk/event/sound-bath-by-candlelight-including-indian-singing-by-rabia-3/
LOCATION:England
CATEGORIES:Yoga
ATTACH;FMTTYPE=image/jpeg:https://cultivatekindness.co.uk/wp-content/uploads/2024/11/claire-1.jpg
END:VEVENT
END:VCALENDAR